BEGIN:VCALENDAR
PRODID:-//CoalitionManager//EN
VERSION:2.0
BEGIN:VEVENT
SUMMARY;LANGUAGE=en-us:Quarterly Advocate Round Table 
CLASS:PUBLIC
CREATED:20260423T225520Z
X-ALT-DESC;FMTTYPE=text/html:<html><p>Please join us for our Quarterly Advocate Round Table! Join us in networking, discussion, and fun! CACI will facilitate advocate round table discussion. This is an opportunity for advocates to network, assist one another with overcoming challenges, and share ideas. Advocates are encouraged to come with a question that they would like feedback from their peers and more information from others across the state.</p><p>This meeting will now be held on GoogleMeets!</p></html>
DTSTART:20240905T150000Z
DTEND:20240905T163000Z
SEQUENCE:0
UID:f4a3f888-d245-4f68-bc4e-3e05cf91a96c
LOCATION:
END:VEVENT
END:VCALENDAR
